BEGIN:VCALENDAR
VERSION:2.0
PRODID:spatie/icalendar-generator
DESCRIPTION:Events from 
X-WR-CALDESC:Events from 
REFRESH-INTERVAL;VALUE=DURATION:PT1440M
X-PUBLISHED-TTL:PT1440M
BEGIN:VTIMEZONE
TZID:Etc/GMT+0
BEGIN:STANDARD
DTSTART:20160428T190000Z
TZOFFSETFROM:+0000
TZOFFSETTO:+0000
END:STANDARD
END:VTIMEZONE
BEGIN:VTIMEZONE
TZID:UTC
BEGIN:STANDARD
DTSTART:20250727T230515Z
TZOFFSETFROM:+0000
TZOFFSETTO:+0000
END:STANDARD
END:VTIMEZONE
BEGIN:VEVENT
UID:45-19
DTSTAMP:20260423T230515Z
SUMMARY:Wedding Dance Workshop - West Bloomfield
LOCATION:
ORGANIZER;CN=Upbeat Dance:MAILTO:upbeatdance@hotmail.com
DTSTART;TZID=Etc/GMT+0:20170123T190000
DTEND;TZID=Etc/GMT+0:20170123T203000
X-ALT-DESC;FMTTYPE=TEXT/HTML:One-evening Workshop West Bloomfield\, MI 7:00
  - 8:30 pm See sign-up link below
CATEGORIES:Wedding Dance Workshops
URL;VALUE=URI:https://www.upbeatdancestudio.com/mc-events/wedding-dance-wor
 kshop-west-bloomfield
METHOD:PUBLISH
END:VEVENT
END:VCALENDAR