BEGIN:VCALENDAR
VERSION:2.0
PRODID:spatie/icalendar-generator
DESCRIPTION:Events from 
X-WR-CALDESC:Events from 
REFRESH-INTERVAL;VALUE=DURATION:PT1440M
X-PUBLISHED-TTL:PT1440M
BEGIN:VTIMEZONE
TZID:Etc/GMT+0
BEGIN:STANDARD
DTSTART:20180923T190000Z
TZOFFSETFROM:+0000
TZOFFSETTO:+0000
END:STANDARD
END:VTIMEZONE
BEGIN:VTIMEZONE
TZID:UTC
BEGIN:STANDARD
DTSTART:20250727T202510Z
TZOFFSETFROM:+0000
TZOFFSETTO:+0000
END:STANDARD
END:VTIMEZONE
BEGIN:VEVENT
UID:217-86
DTSTAMP:20260423T202510Z
SUMMARY:Wedding Dance Workshop - Rochester
LOCATION:
ORGANIZER;CN=Upbeat Dance:MAILTO:upbeatdance@hotmail.com
DTSTART;TZID=Etc/GMT+0:20190620T190000
DTEND;TZID=Etc/GMT+0:20190620T203000
X-ALT-DESC;FMTTYPE=TEXT/HTML:One Evening Wedding Dance Workshop Rochester\,
  MI 7:00 - 8:30 pm Click here for brochure info\, or sign up at 248.726.31
 65 ** Registration may not be open yet for this event.  Join our newslett
 er below to be notified when it's available: [CLICK HERE TO JOIN NEWSLETTE
 R]
CATEGORIES:Wedding Dance Workshops
URL;VALUE=URI:https://www.upbeatdancestudio.com/mc-events/wedding-dance-wor
 kshop-rochester-5
METHOD:PUBLISH
END:VEVENT
END:VCALENDAR