BEGIN:VCALENDAR
VERSION:2.0
PRODID:spatie/icalendar-generator
DESCRIPTION:Events from 
X-WR-CALDESC:Events from 
REFRESH-INTERVAL;VALUE=DURATION:PT1440M
X-PUBLISHED-TTL:PT1440M
BEGIN:VTIMEZONE
TZID:Etc/GMT+0
BEGIN:STANDARD
DTSTART:20160430T190000Z
TZOFFSETFROM:+0000
TZOFFSETTO:+0000
END:STANDARD
END:VTIMEZONE
BEGIN:VTIMEZONE
TZID:UTC
BEGIN:STANDARD
DTSTART:20250728T002202Z
TZOFFSETFROM:+0000
TZOFFSETTO:+0000
END:STANDARD
END:VTIMEZONE
BEGIN:VEVENT
UID:47-21
DTSTAMP:20260424T002202Z
SUMMARY:Wedding Dance Workshop - Lake Orion
LOCATION:
ORGANIZER;CN=Upbeat Dance:MAILTO:upbeatdance@hotmail.com
DTSTART;TZID=Etc/GMT+0:20170125T190000
DTEND;TZID=Etc/GMT+0:20170125T203000
X-ALT-DESC;FMTTYPE=TEXT/HTML:One-evening Workshop Lake Orion\, MI 7:00 - 8:
 30 pm See sign-up link below
CATEGORIES:Wedding Dance Workshops
URL;VALUE=URI:https://www.upbeatdancestudio.com/mc-events/wedding-dance-wor
 kshop-lake-orion
METHOD:PUBLISH
END:VEVENT
END:VCALENDAR