BEGIN:VCALENDAR
VERSION:2.0
PRODID:spatie/icalendar-generator
DESCRIPTION:Events from 
X-WR-CALDESC:Events from 
REFRESH-INTERVAL;VALUE=DURATION:PT1440M
X-PUBLISHED-TTL:PT1440M
BEGIN:VTIMEZONE
TZID:Etc/GMT+0
BEGIN:STANDARD
DTSTART:20170727T190000Z
TZOFFSETFROM:+0000
TZOFFSETTO:+0000
END:STANDARD
END:VTIMEZONE
BEGIN:VTIMEZONE
TZID:UTC
BEGIN:STANDARD
DTSTART:20250727T231618Z
TZOFFSETFROM:+0000
TZOFFSETTO:+0000
END:STANDARD
END:VTIMEZONE
BEGIN:VEVENT
UID:88-43
DTSTAMP:20260423T231618Z
SUMMARY:Wedding Dance Workshop - Lake Orion
LOCATION:
ORGANIZER;CN=Upbeat Dance:MAILTO:upbeatdance@hotmail.com
DTSTART;TZID=Etc/GMT+0:20180423T190000
DTEND;TZID=Etc/GMT+0:20180423T203000
X-ALT-DESC;FMTTYPE=TEXT/HTML:One Evening Wedding Dance Workshop Lake Orion\
 , MI 7:00 - 8:30 pm Click here for brochure info or sign up at 248.693.543
 6 ** Registration may not be open yet for this event.  Join our newslette
 r below to be notified when it's available: [CLICK HERE TO JOIN NEWSLETTER
 ]
CATEGORIES:Wedding Dance Workshops
URL;VALUE=URI:https://www.upbeatdancestudio.com/mc-events/wedding-dance-wor
 kshop-lake-orion-3
METHOD:PUBLISH
END:VEVENT
END:VCALENDAR