BEGIN:VCALENDAR
VERSION:2.0
PRODID:spatie/icalendar-generator
DESCRIPTION:Events from 
X-WR-CALDESC:Events from 
REFRESH-INTERVAL;VALUE=DURATION:PT1440M
X-PUBLISHED-TTL:PT1440M
BEGIN:VTIMEZONE
TZID:Etc/GMT+0
BEGIN:STANDARD
DTSTART:20181223T190000Z
TZOFFSETFROM:+0000
TZOFFSETTO:+0000
END:STANDARD
END:VTIMEZONE
BEGIN:VTIMEZONE
TZID:UTC
BEGIN:STANDARD
DTSTART:20250728T052527Z
TZOFFSETFROM:+0000
TZOFFSETTO:+0000
END:STANDARD
END:VTIMEZONE
BEGIN:VEVENT
UID:222-91
DTSTAMP:20260424T052527Z
SUMMARY:Wedding Dance Workshop - Birmingham (Community House)
LOCATION:
ORGANIZER;CN=Upbeat Dance:MAILTO:upbeatdance@hotmail.com
DTSTART;TZID=Etc/GMT+0:20190919T190000
DTEND;TZID=Etc/GMT+0:20190919T203000
X-ALT-DESC;FMTTYPE=TEXT/HTML:One Evening Wedding Dance Workshop Community H
 ouse (Birmingham\, MI) 7:00 - 8:30 pm Click here for brochure info\, or si
 gn up at 248.594.6416 ** Registration may not be open yet for this event.
   Join our newsletter below to be notified when it's available: [CLICK HE
 RE TO JOIN NEWSLETTER]
CATEGORIES:Wedding Dance Workshops
URL;VALUE=URI:https://www.upbeatdancestudio.com/mc-events/wedding-dance-wor
 kshop-birmingham-community-house-5
METHOD:PUBLISH
END:VEVENT
END:VCALENDAR