BEGIN:VCALENDAR
VERSION:2.0
PRODID:spatie/icalendar-generator
DESCRIPTION:Events from 
X-WR-CALDESC:Events from 
REFRESH-INTERVAL;VALUE=DURATION:PT1440M
X-PUBLISHED-TTL:PT1440M
BEGIN:VTIMEZONE
TZID:Etc/GMT+0
BEGIN:STANDARD
DTSTART:20180510T190000Z
TZOFFSETFROM:+0000
TZOFFSETTO:+0000
END:STANDARD
END:VTIMEZONE
BEGIN:VTIMEZONE
TZID:UTC
BEGIN:STANDARD
DTSTART:20250729T105213Z
TZOFFSETFROM:+0000
TZOFFSETTO:+0000
END:STANDARD
END:VTIMEZONE
BEGIN:VEVENT
UID:189-67
DTSTAMP:20260425T105213Z
SUMMARY:Wedding Dance Workshop - Birmingham
LOCATION:
ORGANIZER;CN=Upbeat Dance:MAILTO:upbeatdance@hotmail.com
DTSTART;TZID=Etc/GMT+0:20190204T190000
DTEND;TZID=Etc/GMT+0:20190204T203000
X-ALT-DESC;FMTTYPE=TEXT/HTML:One Evening Wedding Dance Workshop Birmingham\
 , MI 7:00 - 8:30 pm Click here for brochure info\, or sign up at 248.203.3
 800 ** Registration may not be open yet for this event.  Join our newslet
 ter below to be notified when it's available: [CLICK HERE TO JOIN NEWSLETT
 ER]
CATEGORIES:Wedding Dance Workshops
URL;VALUE=URI:https://www.upbeatdancestudio.com/mc-events/wedding-dance-wor
 kshop-birmingham-5
METHOD:PUBLISH
END:VEVENT
END:VCALENDAR