BEGIN:VCALENDAR
VERSION:2.0
PRODID:spatie/icalendar-generator
DESCRIPTION:Events from 
X-WR-CALDESC:Events from 
REFRESH-INTERVAL;VALUE=DURATION:PT1440M
X-PUBLISHED-TTL:PT1440M
BEGIN:VTIMEZONE
TZID:Etc/GMT+0
BEGIN:STANDARD
DTSTART:20160103T190000Z
TZOFFSETFROM:+0000
TZOFFSETTO:+0000
END:STANDARD
END:VTIMEZONE
BEGIN:VTIMEZONE
TZID:UTC
BEGIN:STANDARD
DTSTART:20250728T011717Z
TZOFFSETFROM:+0000
TZOFFSETTO:+0000
END:STANDARD
END:VTIMEZONE
BEGIN:VEVENT
UID:7-5
DTSTAMP:20260424T011717Z
SUMMARY:Wedding Dance Workshop
LOCATION:Novi   Novi MI
ORGANIZER;CN=Upbeat Dance:MAILTO:upbeatdance@hotmail.com
DTSTART;TZID=Etc/GMT+0:20160929T190000
DTEND;TZID=Etc/GMT+0:20160929T203000
X-ALT-DESC;FMTTYPE=TEXT/HTML:$49 per couple Click here for brochure info\, 
 page 21 or sign up at 248.449.1206
CATEGORIES:Wedding Dance Workshops
URL;VALUE=URI:https://www.upbeatdancestudio.com/mc-events/wedding-dance-wor
 kshop-3
METHOD:PUBLISH
END:VEVENT
END:VCALENDAR