BEGIN:VCALENDAR
VERSION:2.0
PRODID:spatie/icalendar-generator
DESCRIPTION:Events from 
X-WR-CALDESC:Events from 
REFRESH-INTERVAL;VALUE=DURATION:PT1440M
X-PUBLISHED-TTL:PT1440M
BEGIN:VTIMEZONE
TZID:Etc/GMT+0
BEGIN:STANDARD
DTSTART:20160513T180000Z
TZOFFSETFROM:+0000
TZOFFSETTO:+0000
END:STANDARD
END:VTIMEZONE
BEGIN:VTIMEZONE
TZID:UTC
BEGIN:STANDARD
DTSTART:20250728T000941Z
TZOFFSETFROM:+0000
TZOFFSETTO:+0000
END:STANDARD
END:VTIMEZONE
BEGIN:VEVENT
UID:60-27
DTSTAMP:20260424T000941Z
SUMMARY:Swing &amp;amp\; Ballroom Classes - Group Series
LOCATION:
ORGANIZER;CN=Upbeat Dance:MAILTO:upbeatdance@hotmail.com
RRULE:FREQ=WEEKLY;COUNT=6
DTSTART;TZID=Etc/GMT+0:20170207T180000
DTEND;TZID=Etc/GMT+0:20170207T210000
X-ALT-DESC;FMTTYPE=TEXT/HTML:Six Week Series Milford\, MI Begins on Februar
 y 7 6:00 pm  Intro/Beginner Variety Class:  Swing\, Ballroom &amp;amp\; Lati
 n 7:00 pm Beg/Int East Coast Swing 8:00 pm Beg/Int West Coast Swing See si
 gn-in link below
CATEGORIES:Swing &amp; Ballroom Group Classes
URL;VALUE=URI:https://www.upbeatdancestudio.com/mc-events/swing-ballroom-cl
 asses-group-series?mc_id=60
METHOD:PUBLISH
END:VEVENT
END:VCALENDAR