BEGIN:VCALENDAR
VERSION:2.0
PRODID:spatie/icalendar-generator
DESCRIPTION:Events from 
X-WR-CALDESC:Events from 
REFRESH-INTERVAL;VALUE=DURATION:PT1440M
X-PUBLISHED-TTL:PT1440M
BEGIN:VTIMEZONE
TZID:Etc/GMT+0
BEGIN:STANDARD
DTSTART:20170505T180000Z
TZOFFSETFROM:+0000
TZOFFSETTO:+0000
END:STANDARD
END:VTIMEZONE
BEGIN:VTIMEZONE
TZID:UTC
BEGIN:STANDARD
DTSTART:20250728T101549Z
TZOFFSETFROM:+0000
TZOFFSETTO:+0000
END:STANDARD
END:VTIMEZONE
BEGIN:VEVENT
UID:67-29
DTSTAMP:20260424T101549Z
SUMMARY:Swing &amp;amp\; Ballroom Classes - Group Series
LOCATION:Milford   Milford MI
ORGANIZER;CN=Upbeat Dance:MAILTO:upbeatdance@hotmail.com
RRULE:FREQ=WEEKLY;COUNT=7
DTSTART;TZID=Etc/GMT+0:20180130T180000
DTEND;TZID=Etc/GMT+0:20180130T200000
X-ALT-DESC;FMTTYPE=TEXT/HTML:Six Week Series Milford\, MI Begins January 30
 \, 2018 6:00 - Intro/Beg Class: Swing Ballroom &amp;amp\; Latin 7:00 - Beg/Int
  Class: Swing\, Ballroom &amp;amp\; Latin Click here for brochure info or sig
 n up at 248.676.8390 ** Registration may not be open yet for this event.
   Join our newsletter below to be notified when it's available: [CLICK HE
 RE&amp;hellip\;
CATEGORIES:Swing &amp; Ballroom Group Classes
URL;VALUE=URI:https://www.upbeatdancestudio.com/mc-events/swing-ballroom-cl
 asses-group-series-3?mc_id=67
METHOD:PUBLISH
END:VEVENT
END:VCALENDAR