BEGIN:VCALENDAR
VERSION:2.0
PRODID:spatie/icalendar-generator
DESCRIPTION:Events from 
X-WR-CALDESC:Events from 
REFRESH-INTERVAL;VALUE=DURATION:PT1440M
X-PUBLISHED-TTL:PT1440M
BEGIN:VTIMEZONE
TZID:Etc/GMT+0
BEGIN:STANDARD
DTSTART:20160527T180000Z
TZOFFSETFROM:+0000
TZOFFSETTO:+0000
END:STANDARD
END:VTIMEZONE
BEGIN:VTIMEZONE
TZID:UTC
BEGIN:STANDARD
DTSTART:20250728T014150Z
TZOFFSETFROM:+0000
TZOFFSETTO:+0000
END:STANDARD
END:VTIMEZONE
BEGIN:VEVENT
UID:62-28
DTSTAMP:20260424T014150Z
SUMMARY:Swing &amp;amp\; Ballroom Classes - Group Series
LOCATION:
ORGANIZER;CN=Upbeat Dance:MAILTO:upbeatdance@hotmail.com
DTSTART;TZID=Etc/GMT+0:20170221T180000
DTEND;TZID=Etc/GMT+0:20170221T210000
X-ALT-DESC;FMTTYPE=TEXT/HTML:Six Week Series Milford\, MI Begins on Februar
 y 7 6:00 - Intro/Beg Variety Class:  Swing Ballroom &amp;amp\; Latin 7:00 - B
 eg/Int Class:  East Coast Swing 8:00 - Beg/Int Class:  West Coast Swing 
 See sign-in link below
CATEGORIES:Swing &amp; Ballroom Group Classes
URL;VALUE=URI:https://www.upbeatdancestudio.com/mc-events/swing-ballroom-cl
 asses-group-series-2
METHOD:PUBLISH
END:VEVENT
END:VCALENDAR