BEGIN:VCALENDAR
VERSION:2.0
PRODID:spatie/icalendar-generator
DESCRIPTION:Events from 
X-WR-CALDESC:Events from 
REFRESH-INTERVAL;VALUE=DURATION:PT1440M
X-PUBLISHED-TTL:PT1440M
BEGIN:VTIMEZONE
TZID:Etc/GMT+0
BEGIN:STANDARD
DTSTART:20190111T180000Z
TZOFFSETFROM:+0000
TZOFFSETTO:+0000
END:STANDARD
END:VTIMEZONE
BEGIN:VTIMEZONE
TZID:UTC
BEGIN:STANDARD
DTSTART:20250728T124543Z
TZOFFSETFROM:+0000
TZOFFSETTO:+0000
END:STANDARD
END:VTIMEZONE
BEGIN:VEVENT
UID:281-97
DTSTAMP:20260424T124543Z
SUMMARY:Social Dancing For Adults - Group Series in Milford
LOCATION:
ORGANIZER;CN=Upbeat Dance:MAILTO:upbeatdance@hotmail.com
RRULE:FREQ=WEEKLY;COUNT=8
DTSTART;TZID=Etc/GMT+0:20191008T180000
DTEND;TZID=Etc/GMT+0:20191008T200000
X-ALT-DESC;FMTTYPE=TEXT/HTML:Social Dancing For Adults:  8 Week Group Seri
 es (Milford\, MI) Begins Tuesday\, October 1\, 2019 6:00PM - 6:50PM:  Swi
 ng\, Ballroom and Latin Variety Class (Intro-Beg) 7:00 PM - 7:50PM:  Rumb
 a and West Coast Swing Class (Beg-Int) Click here for registration info or
  sign up at 248.676.8390
CATEGORIES:Swing &amp; Ballroom Group Classes
URL;VALUE=URI:https://www.upbeatdancestudio.com/mc-events/social-dancing-fo
 r-adults-group-series-in-milford?mc_id=281
METHOD:PUBLISH
END:VEVENT
END:VCALENDAR