BEGIN:VCALENDAR
VERSION:2.0
PRODID:spatie/icalendar-generator
DESCRIPTION:Events from 
X-WR-CALDESC:Events from 
REFRESH-INTERVAL;VALUE=DURATION:PT1440M
X-PUBLISHED-TTL:PT1440M
BEGIN:VTIMEZONE
TZID:Etc/GMT+0
BEGIN:STANDARD
DTSTART:20180824T183000Z
TZOFFSETFROM:+0000
TZOFFSETTO:+0000
END:STANDARD
END:VTIMEZONE
BEGIN:VTIMEZONE
TZID:UTC
BEGIN:STANDARD
DTSTART:20250728T045230Z
TZOFFSETFROM:+0000
TZOFFSETTO:+0000
END:STANDARD
END:VTIMEZONE
BEGIN:VEVENT
UID:207-80
DTSTAMP:20260424T045230Z
SUMMARY:Social Dance Group Series - Milford
LOCATION:
ORGANIZER;CN=Upbeat Dance:MAILTO:upbeatdance@hotmail.com
RRULE:FREQ=WEEKLY;COUNT=4
DTSTART;TZID=Etc/GMT+0:20190521T183000
DTEND;TZID=Etc/GMT+0:20190521T193000
X-ALT-DESC;FMTTYPE=TEXT/HTML:Social Dance:  4 Week Group Series (Milford\,
  MI) Begins Tuesday\, April 23 6:30PM - 7:30PM Click here for registration
  info or sign up at 248.676.8390
CATEGORIES:Swing &amp; Ballroom Group Classes
URL;VALUE=URI:https://www.upbeatdancestudio.com/mc-events/social-dance-grou
 p-series-milford-3?mc_id=207
METHOD:PUBLISH
END:VEVENT
END:VCALENDAR