BEGIN:VCALENDAR
VERSION:2.0
PRODID:spatie/icalendar-generator
DESCRIPTION:Events from 
X-WR-CALDESC:Events from 
REFRESH-INTERVAL;VALUE=DURATION:PT1440M
X-PUBLISHED-TTL:PT1440M
BEGIN:VTIMEZONE
TZID:Etc/GMT+0
BEGIN:STANDARD
DTSTART:20180601T180000Z
TZOFFSETFROM:+0000
TZOFFSETTO:+0000
END:STANDARD
END:VTIMEZONE
BEGIN:VTIMEZONE
TZID:UTC
BEGIN:STANDARD
DTSTART:20250729T154735Z
TZOFFSETFROM:+0000
TZOFFSETTO:+0000
END:STANDARD
END:VTIMEZONE
BEGIN:VEVENT
UID:185-66
DTSTAMP:20260425T154735Z
SUMMARY:Social Dance Group Series - Milford
LOCATION:
ORGANIZER;CN=Upbeat Dance:MAILTO:upbeatdance@hotmail.com
RRULE:FREQ=WEEKLY;COUNT=8
DTSTART;TZID=Etc/GMT+0:20190226T180000
DTEND;TZID=Etc/GMT+0:20190226T200000
X-ALT-DESC;FMTTYPE=TEXT/HTML:Social Dance:  8 Week Group Series (Milford\,
  MI) Begins on Tuesday\, October 2 6:00 - Intro/Beg Variety Class:  (Rota
 tion of Swing Ballroom &amp;amp\; Latin) 7:00 - Beg/Int Class:  (West Coast S
 wing) Click here for registration info or sign up at 248.676.8390
CATEGORIES:Swing &amp; Ballroom Group Classes
URL;VALUE=URI:https://www.upbeatdancestudio.com/mc-events/social-dance-grou
 p-series-milford-2?mc_id=185
METHOD:PUBLISH
END:VEVENT
END:VCALENDAR