BEGIN:VCALENDAR
VERSION:2.0
PRODID:spatie/icalendar-generator
DESCRIPTION:Events from 
X-WR-CALDESC:Events from 
REFRESH-INTERVAL;VALUE=DURATION:PT1440M
X-PUBLISHED-TTL:PT1440M
BEGIN:VTIMEZONE
TZID:Etc/GMT+0
BEGIN:STANDARD
DTSTART:20160101T180000Z
TZOFFSETFROM:+0000
TZOFFSETTO:+0000
END:STANDARD
END:VTIMEZONE
BEGIN:VTIMEZONE
TZID:UTC
BEGIN:STANDARD
DTSTART:20250727T225040Z
TZOFFSETFROM:+0000
TZOFFSETTO:+0000
END:STANDARD
END:VTIMEZONE
BEGIN:VEVENT
UID:43-14
DTSTAMP:20260423T225040Z
SUMMARY:Reception Line Dance
LOCATION:
ORGANIZER;CN=Upbeat Dance:MAILTO:upbeatdance@hotmail.com
DTSTART;TZID=Etc/GMT+0:20160927T180000
DTEND;TZID=Etc/GMT+0:20160927T190000
X-ALT-DESC;FMTTYPE=TEXT/HTML:$49 per couple Click here for brochure info\, 
 page 15 or sign up at 248.203.3800
CATEGORIES:Reception Line Dance
URL;VALUE=URI:https://www.upbeatdancestudio.com/mc-events/reception-line-da
 nce-5
METHOD:PUBLISH
END:VEVENT
END:VCALENDAR