BEGIN:VCALENDAR
VERSION:2.0
PRODID:spatie/icalendar-generator
DESCRIPTION:Events from 
X-WR-CALDESC:Events from 
REFRESH-INTERVAL;VALUE=DURATION:PT1440M
X-PUBLISHED-TTL:PT1440M
BEGIN:VTIMEZONE
TZID:Etc/GMT+0
BEGIN:STANDARD
DTSTART:20170809T130000Z
TZOFFSETFROM:+0000
TZOFFSETTO:+0000
END:STANDARD
END:VTIMEZONE
BEGIN:VTIMEZONE
TZID:UTC
BEGIN:STANDARD
DTSTART:20250727T184415Z
TZOFFSETFROM:+0000
TZOFFSETTO:+0000
END:STANDARD
END:VTIMEZONE
BEGIN:VEVENT
UID:102-55
DTSTAMP:20260423T184415Z
SUMMARY:Private Lessons
LOCATION:Holly\, MI
ORGANIZER;CN=Upbeat Dance:MAILTO:upbeatdance@hotmail.com
RRULE:FREQ=WEEKLY;COUNT=52
DTSTART;TZID=Etc/GMT+0:20180506T130000
DTEND;TZID=Etc/GMT+0:20180506T190000
X-ALT-DESC;FMTTYPE=TEXT/HTML:Private lessons are available most Sunday afte
 rnoon/evenings in Holly\, Michigan. Email Leigh for more info\, to schedul
 e or check availability at:  upbeatdance@hotmail.com
CATEGORIES:General
URL;VALUE=URI:https://www.upbeatdancestudio.com/mc-events/private-lessons?m
 c_id=102
METHOD:PUBLISH
END:VEVENT
END:VCALENDAR