BEGIN:VCALENDAR
VERSION:2.0
PRODID:spatie/icalendar-generator
DESCRIPTION:Events from 
X-WR-CALDESC:Events from 
REFRESH-INTERVAL;VALUE=DURATION:PT1440M
X-PUBLISHED-TTL:PT1440M
BEGIN:VTIMEZONE
TZID:Etc/GMT+0
BEGIN:STANDARD
DTSTART:20191002T130000Z
TZOFFSETFROM:+0000
TZOFFSETTO:+0000
END:STANDARD
END:VTIMEZONE
BEGIN:VTIMEZONE
TZID:UTC
BEGIN:STANDARD
DTSTART:20250727T185300Z
TZOFFSETFROM:+0000
TZOFFSETTO:+0000
END:STANDARD
END:VTIMEZONE
BEGIN:VEVENT
UID:274-96
DTSTAMP:20260423T185300Z
SUMMARY:Private Lessons
LOCATION:
ORGANIZER;CN=Upbeat Dance:MAILTO:upbeatdance@hotmail.com
RRULE:FREQ=WEEKLY;COUNT=52
DTSTART;TZID=Etc/GMT+0:20200628T130000
DTEND;TZID=Etc/GMT+0:20200628T190000
X-ALT-DESC;FMTTYPE=TEXT/HTML:Looking for routine choreography\, or a one-on
 -one lesson with just you and the instructor? Private lessons are availabl
 e most Sunday afternoon/evening's in Holly\, Michigan. Email Leigh for mor
 e info\, to schedule a lesson or check availability at:  upbeatdance@hotm
 ail.com
CATEGORIES:General
URL;VALUE=URI:https://www.upbeatdancestudio.com/mc-events/private-lessons-2
 ?mc_id=274
METHOD:PUBLISH
END:VEVENT
END:VCALENDAR