BEGIN:VCALENDAR
VERSION:2.0
PRODID:spatie/icalendar-generator
DESCRIPTION:Events from 
X-WR-CALDESC:Events from 
REFRESH-INTERVAL;VALUE=DURATION:PT1440M
X-PUBLISHED-TTL:PT1440M
BEGIN:VTIMEZONE
TZID:Etc/GMT+0
BEGIN:STANDARD
DTSTART:20160226T180000Z
TZOFFSETFROM:+0000
TZOFFSETTO:+0000
END:STANDARD
END:VTIMEZONE
BEGIN:VTIMEZONE
TZID:UTC
BEGIN:STANDARD
DTSTART:20250727T225848Z
TZOFFSETFROM:+0000
TZOFFSETTO:+0000
END:STANDARD
END:VTIMEZONE
BEGIN:VEVENT
UID:58-15
DTSTAMP:20260423T225848Z
SUMMARY:Milford Group Classes - view more
LOCATION:Milford   Milford MI
ORGANIZER;CN=Upbeat Dance:MAILTO:upbeatdance@hotmail.com
RRULE:FREQ=WEEKLY;COUNT=6
DTSTART;TZID=Etc/GMT+0:20161122T180000
DTEND;TZID=Etc/GMT+0:20161122T200000
X-ALT-DESC;FMTTYPE=TEXT/HTML:Tuesday's in Milford 6:00 Swing\, Ballroom\, 
 Latin (Intro/Beg) 7:00 East Coast Swing (Beginner/Intermediate) 8:00 West
  Coast Swing (Beginner/Intermediate) Click here for brochure info\, or si
 gn up at 248.676.8390
CATEGORIES:Swing &amp; Ballroom Group Classes
URL;VALUE=URI:https://www.upbeatdancestudio.com/mc-events/milford-group-cla
 sses-view-more?mc_id=58
METHOD:PUBLISH
END:VEVENT
END:VCALENDAR