BEGIN:VCALENDAR
VERSION:2.0
PRODID:spatie/icalendar-generator
DESCRIPTION:Events from 
X-WR-CALDESC:Events from 
REFRESH-INTERVAL;VALUE=DURATION:PT1440M
X-PUBLISHED-TTL:PT1440M
BEGIN:VTIMEZONE
TZID:Etc/GMT+0
BEGIN:STANDARD
DTSTART:20170513T180000Z
TZOFFSETFROM:+0000
TZOFFSETTO:+0000
END:STANDARD
END:VTIMEZONE
BEGIN:VTIMEZONE
TZID:UTC
BEGIN:STANDARD
DTSTART:20250728T083725Z
TZOFFSETFROM:+0000
TZOFFSETTO:+0000
END:STANDARD
END:VTIMEZONE
BEGIN:VEVENT
UID:81-36
DTSTAMP:20260424T083725Z
SUMMARY:Dance In A Day Workshop - Davisburg\, MI
LOCATION:Davisburg   Davisburg MI
ORGANIZER;CN=Upbeat Dance:MAILTO:upbeatdance@hotmail.com
DTSTART;TZID=Etc/GMT+0:20180207T180000
DTEND;TZID=Etc/GMT+0:20180207T190000
X-ALT-DESC;FMTTYPE=TEXT/HTML:INTRODUCTION TO BALLROOM DANCING One Evening B
 eginners Workshop - For Singles &amp;amp\; Couples Springfield Twp\, MI 6:00 -
  7:00 pm Click here for brochure info or sign up at 248.846.6558 ** Regist
 ration may not be open yet for this event.  Join our newsletter below to 
 be notified when it's available: [CLICK HERE TO JOIN NEWSLETTER]
CATEGORIES:Special Events
URL;VALUE=URI:https://www.upbeatdancestudio.com/mc-events/dance-in-a-day-wo
 rkshop-davisburg-mi-3
METHOD:PUBLISH
END:VEVENT
END:VCALENDAR